BEGIN:VCALENDAR
VERSION:2.0
PRODID:-//Lubbock Ladies Book Club - ECPv6.15.20//NONSGML v1.0//EN
CALSCALE:GREGORIAN
METHOD:PUBLISH
X-WR-CALNAME:Lubbock Ladies Book Club
X-ORIGINAL-URL:https://lubbockladiesbookclub.com
X-WR-CALDESC:Events for Lubbock Ladies Book Club
REFRESH-INTERVAL;VALUE=DURATION:PT1H
X-Robots-Tag:noindex
X-PUBLISHED-TTL:PT1H
BEGIN:VTIMEZONE
TZID:America/Chicago
BEGIN:DAYLIGHT
TZOFFSETFROM:-0600
TZOFFSETTO:-0500
TZNAME:CDT
DTSTART:20240310T080000
END:DAYLIGHT
BEGIN:STANDARD
TZOFFSETFROM:-0500
TZOFFSETTO:-0600
TZNAME:CST
DTSTART:20241103T070000
END:STANDARD
BEGIN:DAYLIGHT
TZOFFSETFROM:-0600
TZOFFSETTO:-0500
TZNAME:CDT
DTSTART:20250309T080000
END:DAYLIGHT
BEGIN:STANDARD
TZOFFSETFROM:-0500
TZOFFSETTO:-0600
TZNAME:CST
DTSTART:20251102T070000
END:STANDARD
BEGIN:DAYLIGHT
TZOFFSETFROM:-0600
TZOFFSETTO:-0500
TZNAME:CDT
DTSTART:20260308T080000
END:DAYLIGHT
BEGIN:STANDARD
TZOFFSETFROM:-0500
TZOFFSETTO:-0600
TZNAME:CST
DTSTART:20261101T070000
END:STANDARD
END:VTIMEZONE
BEGIN:VEVENT
DTSTART;TZID=America/Chicago:20251018T173000
DTEND;TZID=America/Chicago:20251018T193000
DTSTAMP:20260423T193002
CREATED:20251019T005340Z
LAST-MODIFIED:20251019T005352Z
UID:3847-1760808600-1760815800@lubbockladiesbookclub.com
SUMMARY:Book Club Meeting: The Amalfi Curse by Sarah Penner
DESCRIPTION:Come join us in OCTOBER for our next book club meeting! The book for this coming meeting is The Amalfi Curse by Sarah Penner. \n\n\n\nABOUT THE BOOK \n\n\n\n\n\n\n\nPowerful witchcraft. A hunt for sunken treasure. Forbidden love on the high seas. Beware the Amalfi Curse…Haven Ambrose\, a trailblazing nautical archaeologist\, has come to the sun-soaked village of Positano to investigate the mysterious shipwrecks along the Amalfi Coast. But Haven is hoping to find more than old artifacts beneath the azure waters; she is secretly on a quest to locate a trove of priceless gemstones her late father spotted on his final dive. Upon Haven’s arrival\, strange maelstroms and misfortunes start plaguing the town. Is it nature or something more sinister at work?As Haven searches for her father’s sunken treasure\, she begins to unearth a centuries-old tale of ancient sorcery and one woman’s quest to save her lover and her village by using the legendary art of stregheria\, a magical ability to harness the ocean. Could this magic be behind Positano’s latest calamities? Haven must unravel the Amalfi Curse before the region is destroyed forever…Against the dazzling backdrop of the Amalfi Coast\, this bewitching novel shimmers with mystery\, romance and the untamed magic of the sea.
URL:https://lubbockladiesbookclub.com/event/book-club-meeting-the-amalfi-curse-by-sarah-penner/
LOCATION:Market Street 98th/Quaker\, 4205 98th St\, Lubbock\, Texas\, 79423\, United States
CATEGORIES:Book Club Meeting
ATTACH;FMTTYPE=image/jpeg:https://lubbockladiesbookclub.com/wp-content/uploads/2025/10/the-amalfi-curse.jpg
END:VEVENT
END:VCALENDAR