BEGIN:VCALENDAR
VERSION:2.0
PRODID:-//Lubbock Ladies Book Club - ECPv6.15.20//NONSGML v1.0//EN
CALSCALE:GREGORIAN
METHOD:PUBLISH
X-WR-CALNAME:Lubbock Ladies Book Club
X-ORIGINAL-URL:https://lubbockladiesbookclub.com
X-WR-CALDESC:Events for Lubbock Ladies Book Club
REFRESH-INTERVAL;VALUE=DURATION:PT1H
X-Robots-Tag:noindex
X-PUBLISHED-TTL:PT1H
BEGIN:VTIMEZONE
TZID:America/Chicago
BEGIN:DAYLIGHT
TZOFFSETFROM:-0600
TZOFFSETTO:-0500
TZNAME:CDT
DTSTART:20250309T080000
END:DAYLIGHT
BEGIN:STANDARD
TZOFFSETFROM:-0500
TZOFFSETTO:-0600
TZNAME:CST
DTSTART:20251102T070000
END:STANDARD
BEGIN:DAYLIGHT
TZOFFSETFROM:-0600
TZOFFSETTO:-0500
TZNAME:CDT
DTSTART:20260308T080000
END:DAYLIGHT
BEGIN:STANDARD
TZOFFSETFROM:-0500
TZOFFSETTO:-0600
TZNAME:CST
DTSTART:20261101T070000
END:STANDARD
BEGIN:DAYLIGHT
TZOFFSETFROM:-0600
TZOFFSETTO:-0500
TZNAME:CDT
DTSTART:20270314T080000
END:DAYLIGHT
BEGIN:STANDARD
TZOFFSETFROM:-0500
TZOFFSETTO:-0600
TZNAME:CST
DTSTART:20271107T070000
END:STANDARD
END:VTIMEZONE
BEGIN:VEVENT
DTSTART;TZID=America/Chicago:20260124T173000
DTEND;TZID=America/Chicago:20260124T193000
DTSTAMP:20260423T163058
CREATED:20251221T215440Z
LAST-MODIFIED:20251221T215443Z
UID:4052-1769275800-1769283000@lubbockladiesbookclub.com
SUMMARY:Book Club Meeting: There There by Tommy Orange
DESCRIPTION:Come join us in JANUARY for our next book club meeting! The book for this coming meeting is There There by Tommy Orange. \n\n\n\nABOUT THE BOOK \n\n\n\n\n\n\n\nA wondrous and shattering award-winning novel that follows twelve characters from Native communities: all traveling to the Big Oakland Powwow\, all connected to one another in ways they may not yet realize. \n\n\n\nAmong them is Jacquie Red Feather\, newly sober and trying to make it back to the family she left behind. Dene Oxendene\, pulling his life together after his uncle’s death and working at the powwow to honor his memory. Fourteen-year-old Orvil\, coming to perform traditional dance for the very first time. They converge and collide on one fateful day at the Big Oakland Powwow and together this chorus of voices tells of the plight of the urban Native American—grappling with a complex and painful history\, with an inheritance of beauty and spirituality\, with communion and sacrifice and heroismA book with “so much jangling energy and brings so much news from a distinct corner of American life that it’s a revelation” (The New York Times). It is fierce\, funny\, suspenseful\, and impossible to put down–full of poetry and rage\, exploding onto the page with urgency and force. There There is at once poignant and unflinching\, utterly contemporary and truly unforgettable.
URL:https://lubbockladiesbookclub.com/event/book-club-meeting-there-there-by-tommy-orange/
LOCATION:Market Street 98th/Quaker\, 4205 98th St\, Lubbock\, Texas\, 79423\, United States
CATEGORIES:Book Club Meeting
ATTACH;FMTTYPE=image/jpeg:https://lubbockladiesbookclub.com/wp-content/uploads/2025/12/there-there.jpg
END:VEVENT
BEGIN:VEVENT
DTSTART;TZID=America/Chicago:20260321T173000
DTEND;TZID=America/Chicago:20260321T193000
DTSTAMP:20260423T163058
CREATED:20260302T235250Z
LAST-MODIFIED:20260302T235254Z
UID:4190-1774114200-1774121400@lubbockladiesbookclub.com
SUMMARY:Book Club Meeting: Quicksilver by Callie Hart
DESCRIPTION:Come join us in MARCH for our next book club meeting! The book for this coming meeting is Quicksilver by Callie Hart. \n\n\n\nABOUT THE BOOK \n\n\n\n\n\n\n\nDo not touch the sword. Do not turn the key. Do not open the gate. \n\n\n\nTwenty-four-year-old Saeris Fane is good at keeping secrets. No one knows about the strange powers she possesses\, or the fact that she has been picking pockets and stealing from the Undying Queen’s reservoirs for as long as she can remember. In the land of the unforgiving desert\, there isn’t much a girl wouldn’t do for a glass of water. But a secret is like a knot. Sooner or later\, it is bound to come undone. \n\n\n\nWhen Saeris comes face-to-face with Death himself\, she inadvertently reopens a gateway between realms and is transported to a land of ice and snow. The Fae have always been the stuff of myth\, of legend\, of nightmares…but it turns out they’re real\, and Saeris has landed right in the middle of a centuries-long conflict that might just get her killed. \n\n\n\nThe first of her kind to tread the frozen mountains of Yvelia in over a thousand years\, Saeris mistakenly binds herself to Kingfisher\, a handsome Fae warrior\, who has secrets and nefarious agendas of his own. He will use her Alchemist’s magic to protect his people\, no matter what it costs him… or her. Death has a name. It is Kingfisher of the Ajun Gate. His past is murky. His attitude stinks. And he’s the only way Saeris is going to make it home. \n\n\n\nBe careful of the deals you make\, dear child. The devil is in the details… Now with an embossed cover\, silver foiling\, and an updated interior design.  
URL:https://lubbockladiesbookclub.com/event/book-club-meeting-quicksilver-by-callie-hart/
LOCATION:Market Street 98th/Quaker\, 4205 98th St\, Lubbock\, Texas\, 79423\, United States
CATEGORIES:Book Club Meeting
ATTACH;FMTTYPE=image/jpeg:https://lubbockladiesbookclub.com/wp-content/uploads/2026/03/quicksilver.jpg
END:VEVENT
END:VCALENDAR