BEGIN:VCALENDAR
VERSION:2.0
PRODID:-//Lubbock Ladies Book Club - ECPv6.15.20//NONSGML v1.0//EN
CALSCALE:GREGORIAN
METHOD:PUBLISH
X-WR-CALNAME:Lubbock Ladies Book Club
X-ORIGINAL-URL:https://lubbockladiesbookclub.com
X-WR-CALDESC:Events for Lubbock Ladies Book Club
REFRESH-INTERVAL;VALUE=DURATION:PT1H
X-Robots-Tag:noindex
X-PUBLISHED-TTL:PT1H
BEGIN:VTIMEZONE
TZID:America/Chicago
BEGIN:DAYLIGHT
TZOFFSETFROM:-0600
TZOFFSETTO:-0500
TZNAME:CDT
DTSTART:20230312T080000
END:DAYLIGHT
BEGIN:STANDARD
TZOFFSETFROM:-0500
TZOFFSETTO:-0600
TZNAME:CST
DTSTART:20231105T070000
END:STANDARD
BEGIN:DAYLIGHT
TZOFFSETFROM:-0600
TZOFFSETTO:-0500
TZNAME:CDT
DTSTART:20240310T080000
END:DAYLIGHT
BEGIN:STANDARD
TZOFFSETFROM:-0500
TZOFFSETTO:-0600
TZNAME:CST
DTSTART:20241103T070000
END:STANDARD
BEGIN:DAYLIGHT
TZOFFSETFROM:-0600
TZOFFSETTO:-0500
TZNAME:CDT
DTSTART:20250309T080000
END:DAYLIGHT
BEGIN:STANDARD
TZOFFSETFROM:-0500
TZOFFSETTO:-0600
TZNAME:CST
DTSTART:20251102T070000
END:STANDARD
BEGIN:DAYLIGHT
TZOFFSETFROM:-0600
TZOFFSETTO:-0500
TZNAME:CDT
DTSTART:20260308T080000
END:DAYLIGHT
BEGIN:STANDARD
TZOFFSETFROM:-0500
TZOFFSETTO:-0600
TZNAME:CST
DTSTART:20261101T070000
END:STANDARD
END:VTIMEZONE
BEGIN:VEVENT
DTSTART;TZID=America/Chicago:20250222T173000
DTEND;TZID=America/Chicago:20250222T193000
DTSTAMP:20260423T131216
CREATED:20250126T015553Z
LAST-MODIFIED:20250126T015829Z
UID:984-1740245400-1740252600@lubbockladiesbookclub.com
SUMMARY:Book Club Meeting: The Frozen River by Ariel Lawhon
DESCRIPTION:Come join us in FEBRUARY for our next book club meeting! The book for this coming meeting is THE FROZEN RIVER by Ariel Lawhon. \n\n\n\nABOUT THE BOOK \n\n\n\n\n\n\n\nMaine\, 1789: When the Kennebec River freezes\, entombing a man in the ice\, Martha Ballard is summoned to examine the body and determine cause of death. As a midwife and healer\, she is privy to much of what goes on behind closed doors in Hallowell. Her diary is a record of every birth and death\, crime and debacle that unfolds in the close-knit community. Months earlier\, Martha documented the details of an alleged rape committed by two of the town’s most respected gentlemen—one of whom has now been found dead in the ice. But when a local physician undermines her conclusion\, declaring the death to be an accident\, Martha is forced to investigate the shocking murder on her own.Over the course of one winter\, as the trial nears\, and whispers and prejudices mount\, Martha doggedly pursues the truth. Her diary soon lands at the center of the scandal\, implicating those she loves\, and compelling Martha to decide where her own loyalties lie.Clever\, layered\, and subversive\, Ariel Lawhon’s newest offering introduces an unsung heroine who refused to accept anything less than justice at a time when women were considered best seen and not heard. The Frozen River is a thrilling\, tense\, and tender story about a remarkable woman who left an unparalleled legacy yet remains nearly forgotten to this day.
URL:https://lubbockladiesbookclub.com/event/book-club-meeting-the-frozen-river-by-ariel-lawhon/
LOCATION:Market Street 98th/Quaker\, 4205 98th St\, Lubbock\, Texas\, 79423\, United States
CATEGORIES:Book Club Meeting
ATTACH;FMTTYPE=image/jpeg:https://lubbockladiesbookclub.com/wp-content/uploads/2025/01/the-frozen-river.jpg
END:VEVENT
BEGIN:VEVENT
DTSTART;TZID=America/Chicago:20250125T173000
DTEND;TZID=America/Chicago:20250125T193000
DTSTAMP:20260423T131216
CREATED:20241229T022211Z
LAST-MODIFIED:20241229T022220Z
UID:813-1737826200-1737833400@lubbockladiesbookclub.com
SUMMARY:Book Club Meeting: The Briar Club by Kate Quinn
DESCRIPTION:Come join us in JANUARY for our next book club meeting! The book for this coming meeting is THE BRIAR CLUB by Kate Quinn. \n\n\n\nABOUT THE BOOK \n\n\n\n\n\n\n\nThe New York Times bestselling author of The Diamond Eye and The Rose Code returns with a haunting and powerful story of female friendships and secrets in a Washington\, DC\, boardinghouse during the McCarthy era. \n\n\n\nWashington\, DC\, 1950. Everyone keeps to themselves at Briarwood House\, a down-at-the-heels all-female boardinghouse in the heart of the nation’s capital where secrets hide behind white picket fences. But when the lovely\, mysterious widow Grace March moves into the attic room\, she draws her oddball collection of neighbors into unlikely friendship: poised English beauty Fliss\, whose facade of perfect wife and mother covers gaping inner wounds; policeman’s daughter Nora\, who finds herself entangled with a shadowy gangster; frustrated baseball star Beatrice\, whose career has come to an end along with the women’s baseball league of WWII; and poisonous\, gung-ho Arlene\, who has thrown herself into McCarthy’s Red Scare. \n\n\n\nGrace’s weekly attic-room dinner parties and window-brewed sun tea become a healing balm on all their lives\, but she hides a terrible secret of her own. When a shocking act of violence tears the house apart\, the Briar Club women must decide once and for all: who is the true enemy in their midst? \n\n\n\nCapturing the paranoia of the McCarthy era and evoking the changing roles for women in postwar America\, The Briar Club is an intimate and thrilling novel of secrets and loyalty put to the test.
URL:https://lubbockladiesbookclub.com/event/book-club-meeting-the-briar-club-by-kate-quinn/
LOCATION:Market Street 98th/Quaker\, 4205 98th St\, Lubbock\, Texas\, 79423\, United States
CATEGORIES:Book Club Meeting
ATTACH;FMTTYPE=image/jpeg:https://lubbockladiesbookclub.com/wp-content/uploads/2024/12/the-briar-club.jpg
END:VEVENT
BEGIN:VEVENT
DTSTART;TZID=America/Chicago:20241228T173000
DTEND;TZID=America/Chicago:20241228T193000
DTSTAMP:20260423T131216
CREATED:20241124T005149Z
LAST-MODIFIED:20241124T005322Z
UID:483-1735407000-1735414200@lubbockladiesbookclub.com
SUMMARY:Book Club Meeting: The Book Club Hotel by Sarah Morgan
DESCRIPTION:Come join us in DECEMBER for our next book club meeting! The book for this coming meeting is THE BOOK CLUB HOTEL by Sarah Morgan. \n\n\n\nABOUT THE BOOK \n\n\n\n\n\n\n\nLet USA Today bestselling author Sarah Morgan transport you with another heartfelt exploration of change\, the power of books to heal\, and the enduring strength of female friendship. Perfect for fans of Emily Henry and Jennifer Weiner.With its historic charm and picture-perfect library\, the Maple Sugar Inn is considered the ultimate vacation destination. But widowed far too young\, and exhausted from juggling the hotel with being a dedicated single mom\, Hattie Coleman dreams only of making it through each day.When Erica\, Claudia and Anna—lifelong friends who seem to have it all—check in for a girlfriends’ book club holiday\, it changes everything. Their close friendship and shared love of books have carried them through life’s ups and downs. But Hattie can see they’re also packing some major emotional baggage\, and nothing prepares her for how deeply her own story is about to become entwined in theirs.In the span of a week\, can these four women come together to improve each other’s lives and make this the start of a whole new chapter?
URL:https://lubbockladiesbookclub.com/event/book-club-meeting-the-book-club-hotel-by-sarah-morgan/
LOCATION:Market Street 98th/Quaker\, 4205 98th St\, Lubbock\, Texas\, 79423\, United States
CATEGORIES:Book Club Meeting
ATTACH;FMTTYPE=image/jpeg:https://lubbockladiesbookclub.com/wp-content/uploads/2024/11/the-book-club-hotel.jpg
END:VEVENT
BEGIN:VEVENT
DTSTART;TZID=America/Chicago:20241123T173000
DTEND;TZID=America/Chicago:20241123T193000
DTSTAMP:20260423T131216
CREATED:20241020T003136Z
LAST-MODIFIED:20241020T003740Z
UID:311-1732383000-1732390200@lubbockladiesbookclub.com
SUMMARY:Book Club Meeting: The Seed Keeper by Diane Wilson
DESCRIPTION:Come join us in NOVEMBER for our next book club meeting! The book for this coming meeting is THE SEED KEEPER by Diane Wilson. \n\n\n\nABOUT THE BOOK: \n\n\n\n\n\n\n\nA haunting novel spanning several generations\, The Seed Keeper follows a Dakhóta family’s struggle to preserve their way of life\, and their sacrifices to protect what matters most. \n\n\n\nRosalie Iron Wing has grown up in the woods with her father\, Ray\, a former science teacher who tells her stories of plants\, of the stars\, of the origins of the Dakhóta people. Until\, one morning\, Ray doesn’t return from checking his traps. Told she has no family\, Rosalie is sent to live with a foster family in nearby Mankato—where the reserved\, bookish teenager meets rebellious Gaby Makespeace\, in a friendship that transcends the damaged legacies they’ve inherited. \n\n\n\nOn a winter’s day many years later\, Rosalie returns to her childhood home. A widow and mother\, she has spent the previous two decades on her white husband’s farm\, finding solace in her garden even as the farm is threatened first by drought and then by a predatory chemical company. Now\, grieving\, Rosalie begins to confront the past\, on a search for family\, identity\, and a community where she can finally belong. In the process\, she learns what it means to be descended from women with souls of iron—women who have protected their families\, their traditions\, and a precious cache of seeds through generations of hardship and loss\, through war and the insidious trauma of boarding schools. \n\n\n\nWeaving together the voices of four indelible women\, The Seed Keeper is a beautifully told story of reawakening\, of remembering our original relationship to the seeds and\, through them\, to our ancestors.
URL:https://lubbockladiesbookclub.com/event/book-club-meeting-the-seed-keeper-by-diane-wilson/
LOCATION:Market Street 98th/Quaker\, 4205 98th St\, Lubbock\, Texas\, 79423\, United States
CATEGORIES:Book Club Meeting
ATTACH;FMTTYPE=image/jpeg:https://lubbockladiesbookclub.com/wp-content/uploads/2024/10/the-seed-keeper.jpg
END:VEVENT
BEGIN:VEVENT
DTSTART;TZID=America/Chicago:20241019T173000
DTEND;TZID=America/Chicago:20241019T193000
DTSTAMP:20260423T131216
CREATED:20241019T214624Z
LAST-MODIFIED:20241020T003643Z
UID:301-1729359000-1729366200@lubbockladiesbookclub.com
SUMMARY:Book Club Meeting: The Perfect Couple by Elin Hilderbrand
DESCRIPTION:Come join us in OCTOBER for our next book club meeting! The book for this coming meeting is The Perfect Couple by Elin Hilderbrand. \n\n\n\nABOUT THE BOOK: \n\n\n\n\n\n\n\nIt’s Nantucket wedding season\, also known as summer-the sight of a bride racing down Main Street is as common as the sun setting at Madaket Beach. The Otis-Winbury wedding promises to be an event to remember: the groom’s wealthy parents have spared no expense to host a lavish ceremony at their oceanfront estate. But it’s going to be memorable for all the wrong reasons after tragedy strikes: a body is discovered in Nantucket Harbor just hours before the ceremony-and everyone in the wedding party is suddenly a suspect. As Chief of Police Ed Kapenash interviews the bride\, the groom\, the groom’s famous mystery-novelist mother\, and even a member of his own family\, he discovers that every wedding is a minefield-and no couple is perfect. Featuring beloved characters from The Castaways\, Beautiful Day\, and A Summer Affair\, The Perfect Couple proves once again that Elin Hilderbrand is the queen of the summer beach read.
URL:https://lubbockladiesbookclub.com/event/book-club-meeting-the-perfect-couple-by-elin-hilderbrand/
LOCATION:Market Street 98th/Quaker\, 4205 98th St\, Lubbock\, Texas\, 79423\, United States
CATEGORIES:Book Club Meeting
ATTACH;FMTTYPE=image/jpeg:https://lubbockladiesbookclub.com/wp-content/uploads/2024/10/the-perfect-couple.jpg
END:VEVENT
END:VCALENDAR