BEGIN:VCALENDAR
VERSION:2.0
PRODID:-//Lubbock Ladies Book Club - ECPv6.15.20//NONSGML v1.0//EN
CALSCALE:GREGORIAN
METHOD:PUBLISH
X-ORIGINAL-URL:https://lubbockladiesbookclub.com
X-WR-CALDESC:Events for Lubbock Ladies Book Club
REFRESH-INTERVAL;VALUE=DURATION:PT1H
X-Robots-Tag:noindex
X-PUBLISHED-TTL:PT1H
BEGIN:VTIMEZONE
TZID:America/Chicago
BEGIN:DAYLIGHT
TZOFFSETFROM:-0600
TZOFFSETTO:-0500
TZNAME:CDT
DTSTART:20240310T080000
END:DAYLIGHT
BEGIN:STANDARD
TZOFFSETFROM:-0500
TZOFFSETTO:-0600
TZNAME:CST
DTSTART:20241103T070000
END:STANDARD
BEGIN:DAYLIGHT
TZOFFSETFROM:-0600
TZOFFSETTO:-0500
TZNAME:CDT
DTSTART:20250309T080000
END:DAYLIGHT
BEGIN:STANDARD
TZOFFSETFROM:-0500
TZOFFSETTO:-0600
TZNAME:CST
DTSTART:20251102T070000
END:STANDARD
BEGIN:DAYLIGHT
TZOFFSETFROM:-0600
TZOFFSETTO:-0500
TZNAME:CDT
DTSTART:20260308T080000
END:DAYLIGHT
BEGIN:STANDARD
TZOFFSETFROM:-0500
TZOFFSETTO:-0600
TZNAME:CST
DTSTART:20261101T070000
END:STANDARD
END:VTIMEZONE
BEGIN:VEVENT
DTSTART;TZID=America/Chicago:20250322T173000
DTEND;TZID=America/Chicago:20250322T193000
DTSTAMP:20260424T062623
CREATED:20250323T012153Z
LAST-MODIFIED:20250323T012246Z
UID:1187-1742664600-1742671800@lubbockladiesbookclub.com
SUMMARY:Book Club Meeting: Black Candle Women by Diane Marie Brown
DESCRIPTION:Come join us in MARCH for our next book club meeting! The book for this coming meeting is Black Candle Women by Diane Marie Brown. \n\n\n\nABOUT THE BOOK \n\n\n\n\n\n\n\nA warm and wry family drama with a magical twist about four generations of Black women\, a family love curse\, and the secrets they keep for and from each other over one very complicated yearGenerations of Montrose women—Augusta\, Victoria\, Willow—have always lived together in their quaint California bungalow. They keep to themselves\, never venture far from home\, and their collection of tinctures and spells is an unspoken bond between them. But when young Nickie Montrose brings home a boy for the first time\, their quiet lives are thrown into disarray.For the family has withheld a crucial secret from Nickie all these years: any person a Montrose woman falls in love with will die. Their surprise guest forces each woman to reckon with her own past choices and mistakes. And as new truths about the curse emerge\, they’re set on a collision course dating back to 1950s New Orleans’s French Quarter—where a hidden story in a mysterious book may just hold the answers they seek in life and in love…
URL:https://lubbockladiesbookclub.com/event/book-club-meeting-black-candle-women-by-diane-marie-brown/
LOCATION:Market Street 98th/Quaker\, 4205 98th St\, Lubbock\, Texas\, 79423\, United States
CATEGORIES:Book Club Meeting
ATTACH;FMTTYPE=image/jpeg:https://lubbockladiesbookclub.com/wp-content/uploads/2025/03/black-candle-women.jpg
END:VEVENT
END:VCALENDAR