BEGIN:VCALENDAR
VERSION:2.0
PRODID:-//Lubbock Ladies Book Club - ECPv6.15.20//NONSGML v1.0//EN
CALSCALE:GREGORIAN
METHOD:PUBLISH
X-WR-CALNAME:Lubbock Ladies Book Club
X-ORIGINAL-URL:https://lubbockladiesbookclub.com
X-WR-CALDESC:Events for Lubbock Ladies Book Club
REFRESH-INTERVAL;VALUE=DURATION:PT1H
X-Robots-Tag:noindex
X-PUBLISHED-TTL:PT1H
BEGIN:VTIMEZONE
TZID:America/Chicago
BEGIN:DAYLIGHT
TZOFFSETFROM:-0600
TZOFFSETTO:-0500
TZNAME:CDT
DTSTART:20240310T080000
END:DAYLIGHT
BEGIN:STANDARD
TZOFFSETFROM:-0500
TZOFFSETTO:-0600
TZNAME:CST
DTSTART:20241103T070000
END:STANDARD
BEGIN:DAYLIGHT
TZOFFSETFROM:-0600
TZOFFSETTO:-0500
TZNAME:CDT
DTSTART:20250309T080000
END:DAYLIGHT
BEGIN:STANDARD
TZOFFSETFROM:-0500
TZOFFSETTO:-0600
TZNAME:CST
DTSTART:20251102T070000
END:STANDARD
BEGIN:DAYLIGHT
TZOFFSETFROM:-0600
TZOFFSETTO:-0500
TZNAME:CDT
DTSTART:20260308T080000
END:DAYLIGHT
BEGIN:STANDARD
TZOFFSETFROM:-0500
TZOFFSETTO:-0600
TZNAME:CST
DTSTART:20261101T070000
END:STANDARD
END:VTIMEZONE
BEGIN:VEVENT
DTSTART;TZID=America/Chicago:20250426T173000
DTEND;TZID=America/Chicago:20250426T193000
DTSTAMP:20260424T042323
CREATED:20250323T015648Z
LAST-MODIFIED:20250323T015652Z
UID:1197-1745688600-1745695800@lubbockladiesbookclub.com
SUMMARY:Book Club Meeting: Homeseeking by Karissa Chen
DESCRIPTION:Come join us in MARCH for our next book club meeting! The book for this coming meeting is HOMESEEKING by Karissa Chen. \n\n\n\nABOUT THE BOOK \n\n\n\n\n\n\n\nFrom WWII to 2008\, this deeply moving story follows one couple across sixty years as world events pull them together and apart\, illuminating the Chinese diaspora and exploring what it means to find home far from your homeland.Haiwen is buying bananas at a 99 Ranch Market in Los Angeles when he looks up and sees Suchi\, his Suchi\, for the first time in sixty years. To recently widowed Haiwen it feels like a second chance\, but Suchi has only survived by refusing to look back.Suchi was seven when she first met Haiwen in their Shanghai neighborhood\, drawn by the sound of his violin. Their childhood friendship blossomed into soul-deep love\, but when Haiwen secretly enlisted in the Nationalist army in 1947 to save his brother from the draft\, she was left with just his violin and a note: Forgive me.Homeseeking follows the separated lovers through six decades of tumultuous Chinese history as war\, famine\, and opportunity take them separately to the song halls of Hong Kong\, the military encampments of Taiwan\, the bustling streets of New York\, and sunny California\, telling Haiwen’s story from the present to the past while tracing Suchi’s from her childhood to the present\, meeting in the crucible of their lives. Throughout\, Haiwen holds his memories close while Suchi forces herself to look only forward\, neither losing sight of the home they hold in their hearts.At once epic and intimate\, Homeseeking is a story of family\, sacrifice\, and loyalty\, and of the power of love to endure beyond distance\, beyond time.
URL:https://lubbockladiesbookclub.com/event/book-club-meeting-homeseeking-by-karissa-chen/
LOCATION:Market Street 98th/Quaker\, 4205 98th St\, Lubbock\, Texas\, 79423\, United States
CATEGORIES:Book Club Meeting
ATTACH;FMTTYPE=image/jpeg:https://lubbockladiesbookclub.com/wp-content/uploads/2025/03/homeseeking.jpg
END:VEVENT
END:VCALENDAR