BEGIN:VCALENDAR
VERSION:2.0
PRODID:-//Lubbock Ladies Book Club - ECPv6.15.20//NONSGML v1.0//EN
CALSCALE:GREGORIAN
METHOD:PUBLISH
X-ORIGINAL-URL:https://lubbockladiesbookclub.com
X-WR-CALDESC:Events for Lubbock Ladies Book Club
REFRESH-INTERVAL;VALUE=DURATION:PT1H
X-Robots-Tag:noindex
X-PUBLISHED-TTL:PT1H
BEGIN:VTIMEZONE
TZID:America/Chicago
BEGIN:DAYLIGHT
TZOFFSETFROM:-0600
TZOFFSETTO:-0500
TZNAME:CDT
DTSTART:20240310T080000
END:DAYLIGHT
BEGIN:STANDARD
TZOFFSETFROM:-0500
TZOFFSETTO:-0600
TZNAME:CST
DTSTART:20241103T070000
END:STANDARD
BEGIN:DAYLIGHT
TZOFFSETFROM:-0600
TZOFFSETTO:-0500
TZNAME:CDT
DTSTART:20250309T080000
END:DAYLIGHT
BEGIN:STANDARD
TZOFFSETFROM:-0500
TZOFFSETTO:-0600
TZNAME:CST
DTSTART:20251102T070000
END:STANDARD
BEGIN:DAYLIGHT
TZOFFSETFROM:-0600
TZOFFSETTO:-0500
TZNAME:CDT
DTSTART:20260308T080000
END:DAYLIGHT
BEGIN:STANDARD
TZOFFSETFROM:-0500
TZOFFSETTO:-0600
TZNAME:CST
DTSTART:20261101T070000
END:STANDARD
END:VTIMEZONE
BEGIN:VEVENT
DTSTART;TZID=America/Chicago:20250920T173000
DTEND;TZID=America/Chicago:20250920T193000
DTSTAMP:20260423T193131
CREATED:20250824T105833Z
LAST-MODIFIED:20250824T105840Z
UID:3178-1758389400-1758396600@lubbockladiesbookclub.com
SUMMARY:Book Club Meeting: The Bean Trees by Barbara Kingsolver
DESCRIPTION:Come join us in SEPTEMBER for our next book club meeting! The book for this coming meeting is The Bean Trees by Barbara Kingsolver. \n\n\n\nABOUT THE BOOK \n\n\n\n\n\n\n\nThe Bean Trees is the charming\, engrossing tale of rural Kentucky native Taylor Greer\, who only wants to get away from her roots and avoid getting pregnant. She succeeds\, but inherits a three-year-old Native American girl named Turtle along the way\, and together\, from Oklahoma to Arizona\, half-Cherokee Taylor and her charge search for a new life in the West. Hers is a story about love and friendship\, abandonment and belonging\, and the discovery of surprising resources in seemingly empty places.
URL:https://lubbockladiesbookclub.com/event/book-club-meeting-the-bean-trees-by-barbara-kingsolver/
LOCATION:Market Street 98th/Quaker\, 4205 98th St\, Lubbock\, Texas\, 79423\, United States
CATEGORIES:Book Club Meeting
ATTACH;FMTTYPE=image/jpeg:https://lubbockladiesbookclub.com/wp-content/uploads/2025/08/1000007951.jpg
END:VEVENT
END:VCALENDAR